BEGIN:VCALENDAR
VERSION:2.0
PRODID:icalendar-ruby
CALSCALE:GREGORIAN
METHOD:PUBLISH
BEGIN:VEVENT
DTSTAMP:20260423T231325Z
UID:7-322127@lifebridge.church
DTSTART:20261025T140000Z
DTEND:20261025T150000Z
CLASS:PUBLIC
CREATED:20260423T154726
DESCRIPTION:
LAST-MODIFIED:20260423T154726
LOCATION:
SUMMARY:Sunday Worship
URL;VALUE=URI:https://lifebridge.church/events/sunday-worship--7/2026-10-25
ATTACH;FILENAME=5.26.19-Baptism-8418-e1566965449479-1024x688.jpg;FMTTYPE=im
 age/jpeg:https://dq5pwpg1q8ru0.cloudfront.net/2024/02/07/22/02/40/6e234949
 -15a4-4386-a472-733575a4dc26/5.26.19-Baptism-8418-e1566965449479-1024x688.
 jpg
END:VEVENT
END:VCALENDAR
