BEGIN:VCALENDAR
VERSION:2.0
PRODID:icalendar-ruby
CALSCALE:GREGORIAN
METHOD:PUBLISH
BEGIN:VEVENT
DTSTAMP:20260422T233033Z
UID:5-320865@lifebridge.church
DTSTART:20261101T163000Z
DTEND:20261101T173000Z
CLASS:PUBLIC
CREATED:20260422T154719
DESCRIPTION:Sunday Worship
LAST-MODIFIED:20260422T154719
LOCATION:
SUMMARY:Sunday Worship
URL;VALUE=URI:https://lifebridge.church/events/sunday-worship/2026-11-01
ATTACH;FILENAME=5.26.19-Baptism-8418-e1566965449479-1024x688.jpg;FMTTYPE=im
 age/jpeg:https://dq5pwpg1q8ru0.cloudfront.net/2024/02/07/21/55/41/86577592
 -fd74-4e51-b99d-5bfd9fcef915/5.26.19-Baptism-8418-e1566965449479-1024x688.
 jpg
END:VEVENT
END:VCALENDAR
